BEGIN:VCALENDAR
VERSION:2.0
PRODID:-//Flow with Faye, in the Art of Wellbeing ... - ECPv6.15.11//NONSGML v1.0//EN
CALSCALE:GREGORIAN
METHOD:PUBLISH
X-WR-CALNAME:Flow with Faye, in the Art of Wellbeing ...
X-ORIGINAL-URL:https://flowwithfaye.com
X-WR-CALDESC:Events for Flow with Faye, in the Art of Wellbeing ...
REFRESH-INTERVAL;VALUE=DURATION:PT1H
X-Robots-Tag:noindex
X-PUBLISHED-TTL:PT1H
BEGIN:VTIMEZONE
TZID:UTC
BEGIN:STANDARD
TZOFFSETFROM:+0000
TZOFFSETTO:+0000
TZNAME:UTC
DTSTART:20230101T000000
END:STANDARD
END:VTIMEZONE
BEGIN:VTIMEZONE
TZID:Atlantic/Canary
BEGIN:DAYLIGHT
TZOFFSETFROM:+0000
TZOFFSETTO:+0100
TZNAME:WEST
DTSTART:20230326T010000
END:DAYLIGHT
BEGIN:STANDARD
TZOFFSETFROM:+0100
TZOFFSETTO:+0000
TZNAME:WET
DTSTART:20231029T010000
END:STANDARD
BEGIN:DAYLIGHT
TZOFFSETFROM:+0000
TZOFFSETTO:+0100
TZNAME:WEST
DTSTART:20240331T010000
END:DAYLIGHT
BEGIN:STANDARD
TZOFFSETFROM:+0100
TZOFFSETTO:+0000
TZNAME:WET
DTSTART:20241027T010000
END:STANDARD
BEGIN:DAYLIGHT
TZOFFSETFROM:+0000
TZOFFSETTO:+0100
TZNAME:WEST
DTSTART:20250330T010000
END:DAYLIGHT
BEGIN:STANDARD
TZOFFSETFROM:+0100
TZOFFSETTO:+0000
TZNAME:WET
DTSTART:20251026T010000
END:STANDARD
END:VTIMEZONE
BEGIN:VEVENT
DTSTART;TZID=UTC:20240320T170000
DTEND;TZID=UTC:20240325T120000
DTSTAMP:20260425T230338
CREATED:20240306T135641Z
LAST-MODIFIED:20240306T135641Z
UID:5898-1710954000-1711368000@flowwithfaye.com
SUMMARY:Bliss Yoga Retreat - Tenerife
DESCRIPTION:Two Daily 90 minute yoga classes with highly experienced certified yoga teachers. \nAll vegetarian meals including a delicious buffet breakfast\, healthy packed lunch and 3 course dinner with optional wine. \nDaily excursions to explore the island\, \nIncluding exploring The Masca Valley\, swimming in the natural pools of Los Gigantes\, hiking around the volcano Mount Teide and a champagne sunset in the Teide national park. \nOptional Ayurveda Massage\, Sound Healing Therapy\, Mantra Chanting\, Tantra Workshop & Reiki Treatments. \nContact Faye for bookings.
URL:https://flowwithfaye.com/event/bliss-yoga-retreat-tenerife/
LOCATION:Santa Cruz de Tenerife
END:VEVENT
BEGIN:VEVENT
DTSTART;TZID=Atlantic/Canary:20240113T080000
DTEND;TZID=Atlantic/Canary:20240113T180000
DTSTAMP:20260425T230338
CREATED:20240104T103820Z
LAST-MODIFIED:20240104T103820Z
UID:5883-1705132800-1705168800@flowwithfaye.com
SUMMARY:Saturday
DESCRIPTION:Availability
URL:https://flowwithfaye.com/event/saturday/
LOCATION:Santa Cruz de Tenerife
CATEGORIES:General
END:VEVENT
BEGIN:VEVENT
DTSTART;TZID=Atlantic/Canary:20240112T070000
DTEND;TZID=Atlantic/Canary:20240112T220000
DTSTAMP:20260425T230338
CREATED:20240104T103818Z
LAST-MODIFIED:20240104T103818Z
UID:5882-1705042800-1705096800@flowwithfaye.com
SUMMARY:Friday
DESCRIPTION:Availability
URL:https://flowwithfaye.com/event/friday/
LOCATION:Santa Cruz de Tenerife
CATEGORIES:General
END:VEVENT
BEGIN:VEVENT
DTSTART;TZID=Atlantic/Canary:20240111T070000
DTEND;TZID=Atlantic/Canary:20240111T220000
DTSTAMP:20260425T230338
CREATED:20240104T103816Z
LAST-MODIFIED:20240104T103816Z
UID:5881-1704956400-1705010400@flowwithfaye.com
SUMMARY:Thursday
DESCRIPTION:Availability
URL:https://flowwithfaye.com/event/thursday/
LOCATION:Santa Cruz de Tenerife
CATEGORIES:General
END:VEVENT
BEGIN:VEVENT
DTSTART;TZID=Atlantic/Canary:20240110T070000
DTEND;TZID=Atlantic/Canary:20240110T220000
DTSTAMP:20260425T230338
CREATED:20240104T103815Z
LAST-MODIFIED:20240104T103815Z
UID:5880-1704870000-1704924000@flowwithfaye.com
SUMMARY:Wednesday
DESCRIPTION:Availability
URL:https://flowwithfaye.com/event/wednesday/
LOCATION:Santa Cruz de Tenerife
CATEGORIES:General
END:VEVENT
BEGIN:VEVENT
DTSTART;TZID=Atlantic/Canary:20240109T070000
DTEND;TZID=Atlantic/Canary:20240109T220000
DTSTAMP:20260425T230338
CREATED:20240104T103814Z
LAST-MODIFIED:20240104T103814Z
UID:5879-1704783600-1704837600@flowwithfaye.com
SUMMARY:Tuesday
DESCRIPTION:Availability
URL:https://flowwithfaye.com/event/tuesday/
LOCATION:Santa Cruz de Tenerife
CATEGORIES:General
END:VEVENT
BEGIN:VEVENT
DTSTART;TZID=Atlantic/Canary:20240108T070000
DTEND;TZID=Atlantic/Canary:20240108T220000
DTSTAMP:20260425T230338
CREATED:20240104T103812Z
LAST-MODIFIED:20240104T103812Z
UID:5878-1704697200-1704751200@flowwithfaye.com
SUMMARY:Monday
DESCRIPTION:Availability
URL:https://flowwithfaye.com/event/monday/
LOCATION:Santa Cruz de Tenerife
CATEGORIES:General
END:VEVENT
END:VCALENDAR