BEGIN:VCALENDAR
VERSION:2.0
PRODID:-//Flow with Faye, in the Art of Wellbeing ... - ECPv6.15.11//NONSGML v1.0//EN
CALSCALE:GREGORIAN
METHOD:PUBLISH
X-ORIGINAL-URL:https://flowwithfaye.com
X-WR-CALDESC:Events for Flow with Faye, in the Art of Wellbeing ...
REFRESH-INTERVAL;VALUE=DURATION:PT1H
X-Robots-Tag:noindex
X-PUBLISHED-TTL:PT1H
BEGIN:VTIMEZONE
TZID:UTC
BEGIN:STANDARD
TZOFFSETFROM:+0000
TZOFFSETTO:+0000
TZNAME:UTC
DTSTART:20240101T000000
END:STANDARD
END:VTIMEZONE
BEGIN:VEVENT
DTSTART;TZID=UTC:20250722T081500
DTEND;TZID=UTC:20250722T093000
DTSTAMP:20260425T203439
CREATED:20250527T120127Z
LAST-MODIFIED:20250527T124130Z
UID:6607-1753172100-1753176600@flowwithfaye.com
SUMMARY:Yoga by the Sea\, Radazul
DESCRIPTION:  \nYOGA FLOW – EVERY TUESDAY – 8:15-9:30AM – PLAYA DE RADAZUL \nWe will practise a Hatha-Vinyasa Flow\, with some weeks implementing parts of the Ashtanga Primary series. \nMeditation\, breathwork & mantra will also be practised as part of the traditional Yoga class. \nAll levels and ages are welcomed\, with modifications and add-ons for everyone. \nTo book\, please use the following link:\nhttps://bookwhen.com/fayeflowing/e/ev-sr7w-20250603081500 \nPricing:\n1 x Class €12\n2 x Class €20\n4 x Classes €40 (Valid for four weeks)\n8 x Classes €70 (Valid for four weeks)
URL:https://flowwithfaye.com/event/yoga-by-the-sea-radazul-8/
LOCATION:Playa de Radazul\, Radazul\, Santa Cruz de Tenerife\, Spain
CATEGORIES:Yoga
END:VEVENT
BEGIN:VEVENT
DTSTART;TZID=UTC:20250715T081500
DTEND;TZID=UTC:20250715T093000
DTSTAMP:20260425T203439
CREATED:20250527T120006Z
LAST-MODIFIED:20250527T124207Z
UID:6605-1752567300-1752571800@flowwithfaye.com
SUMMARY:Yoga by the Sea\, Radazul
DESCRIPTION:  \nYOGA FLOW – EVERY TUESDAY – 8:15-9:30AM – PLAYA DE RADAZUL \nWe will practise a Hatha-Vinyasa Flow\, with some weeks implementing parts of the Ashtanga Primary series. \nMeditation\, breathwork & mantra will also be practised as part of the traditional Yoga class. \nAll levels and ages are welcomed\, with modifications and add-ons for everyone. \nTo book\, please use the following link:\nhttps://bookwhen.com/fayeflowing/e/ev-sr7w-20250603081500 \nPricing:\n1 x Class €12\n2 x Class €20\n4 x Classes €40 (Valid for four weeks)\n8 x Classes €70 (Valid for four weeks)
URL:https://flowwithfaye.com/event/yoga-by-the-sea-radazul-7/
LOCATION:Playa de Radazul\, Radazul\, Santa Cruz de Tenerife\, Spain
CATEGORIES:Yoga
END:VEVENT
BEGIN:VEVENT
DTSTART;TZID=UTC:20250708T081500
DTEND;TZID=UTC:20250708T093000
DTSTAMP:20260425T203439
CREATED:20250527T115830Z
LAST-MODIFIED:20250527T124251Z
UID:6603-1751962500-1751967000@flowwithfaye.com
SUMMARY:Yoga by the Sea\, Radazul
DESCRIPTION:  \nYOGA FLOW – EVERY TUESDAY – 8:15-9:30AM – PLAYA DE RADAZUL \nWe will practise a Hatha-Vinyasa Flow\, with some weeks implementing parts of the Ashtanga Primary series. \nMeditation\, breathwork & mantra will also be practised as part of the traditional Yoga class. \nAll levels and ages are welcomed\, with modifications and add-ons for everyone. \nTo book\, please use the following link:\nhttps://bookwhen.com/fayeflowing/e/ev-sr7w-20250603081500 \nPricing:\n1 x Class €12\n2 x Class €20\n4 x Classes €40 (Valid for four weeks)\n8 x Classes €70 (Valid for four weeks)
URL:https://flowwithfaye.com/event/yoga-by-the-sea-radazul-6/
LOCATION:Playa de Radazul\, Radazul\, Santa Cruz de Tenerife\, Spain
CATEGORIES:Yoga
END:VEVENT
BEGIN:VEVENT
DTSTART;TZID=UTC:20250701T081500
DTEND;TZID=UTC:20250701T093000
DTSTAMP:20260425T203439
CREATED:20250527T115703Z
LAST-MODIFIED:20250527T124333Z
UID:6601-1751357700-1751362200@flowwithfaye.com
SUMMARY:Yoga by the Sea\, Radazul
DESCRIPTION:  \nYOGA FLOW – EVERY TUESDAY – 8:15-9:30AM – PLAYA DE RADAZUL \nWe will practise a Hatha-Vinyasa Flow\, with some weeks implementing parts of the Ashtanga Primary series. \nMeditation\, breathwork & mantra will also be practised as part of the traditional Yoga class. \nAll levels and ages are welcomed\, with modifications and add-ons for everyone. \nTo book\, please use the following link:\nhttps://bookwhen.com/fayeflowing/e/ev-sr7w-20250603081500 \nPricing:\n1 x Class €12\n2 x Class €20\n4 x Classes €40 (Valid for four weeks)\n8 x Classes €70 (Valid for four weeks)
URL:https://flowwithfaye.com/event/yoga-by-the-sea-radazul-5/
LOCATION:Playa de Radazul\, Radazul\, Santa Cruz de Tenerife\, Spain
CATEGORIES:Yoga
END:VEVENT
BEGIN:VEVENT
DTSTART;TZID=UTC:20250624T081500
DTEND;TZID=UTC:20250624T093000
DTSTAMP:20260425T203439
CREATED:20250527T115442Z
LAST-MODIFIED:20250527T124417Z
UID:6598-1750752900-1750757400@flowwithfaye.com
SUMMARY:Yoga by the Sea\, Radazul
DESCRIPTION:  \nYOGA FLOW – EVERY TUESDAY – 8:15-9:30AM – PLAYA DE RADAZUL \nWe will practise a Hatha-Vinyasa Flow\, with some weeks implementing parts of the Ashtanga Primary series. \nMeditation\, breathwork & mantra will also be practised as part of the traditional Yoga class. \nAll levels and ages are welcomed\, with modifications and add-ons for everyone. \nTo book\, please use the following link:\nhttps://bookwhen.com/fayeflowing/e/ev-sr7w-20250603081500 \nPricing:\n1 x Class €12\n2 x Class €20\n4 x Classes €40 (Valid for four weeks)\n8 x Classes €70 (Valid for four weeks)
URL:https://flowwithfaye.com/event/yoga-by-the-sea-radazul-4/
LOCATION:Playa de Radazul\, Radazul\, Santa Cruz de Tenerife\, Spain
CATEGORIES:Yoga
END:VEVENT
BEGIN:VEVENT
DTSTART;TZID=UTC:20250617T081500
DTEND;TZID=UTC:20250617T093000
DTSTAMP:20260425T203439
CREATED:20250527T115315Z
LAST-MODIFIED:20250527T125028Z
UID:6596-1750148100-1750152600@flowwithfaye.com
SUMMARY:Yoga by the Sea\, Radazul
DESCRIPTION:YOGA FLOW – EVERY TUESDAY – 8:15-9:30AM – PLAYA DE RADAZUL \nWe will practise a Hatha-Vinyasa Flow\, with some weeks implementing parts of the Ashtanga Primary series. \nMeditation\, breathwork & mantra will also be practised as part of the traditional Yoga class. \nAll levels and ages are welcomed\, with modifications and add-ons for everyone. \nTo book\, please use the following link:\nhttps://bookwhen.com/fayeflowing/e/ev-sr7w-20250603081500 \nPricing:\n1 x Class €12\n2 x Class €20\n4 x Classes €40 (Valid for four weeks)\n8 x Classes €70 (Valid for four weeks)
URL:https://flowwithfaye.com/event/yoga-by-the-sea-radazul-3/
LOCATION:Playa de Radazul\, Radazul\, Santa Cruz de Tenerife\, Spain
CATEGORIES:Yoga
END:VEVENT
BEGIN:VEVENT
DTSTART;TZID=UTC:20250610T081500
DTEND;TZID=UTC:20250610T093000
DTSTAMP:20260425T203439
CREATED:20250527T102923Z
LAST-MODIFIED:20250527T124845Z
UID:6591-1749543300-1749547800@flowwithfaye.com
SUMMARY:Yoga by the Sea\, Radazul
DESCRIPTION:  \nYOGA FLOW – EVERY TUESDAY – 8:15-9:30AM – PLAYA DE RADAZUL \nWe will practise a Hatha-Vinyasa Flow\, with some weeks implementing parts of the Ashtanga Primary series. \nMeditation\, breathwork & mantra will also be practised as part of the traditional Yoga class. \nAll levels and ages are welcomed\, with modifications and add-ons for everyone. \nTo book\, please use the following link:\nhttps://bookwhen.com/fayeflowing/e/ev-sr7w-20250603081500 \nPricing:\n1 x Class €12\n2 x Class €20\n4 x Classes €40 (Valid for four weeks)\n8 x Classes €70 (Valid for four weeks)
URL:https://flowwithfaye.com/event/yoga-by-the-sea-radazul-2/
LOCATION:Playa de Radazul\, Radazul\, Santa Cruz de Tenerife\, Spain
CATEGORIES:Yoga
END:VEVENT
BEGIN:VEVENT
DTSTART;TZID=UTC:20250603T181500
DTEND;TZID=UTC:20250603T193000
DTSTAMP:20260425T203439
CREATED:20250522T145352Z
LAST-MODIFIED:20250523T183528Z
UID:6548-1748974500-1748979000@flowwithfaye.com
SUMMARY:Working with the Chakras - Online 7 Week Yoga & Meditation Course
DESCRIPTION:Please book Here:\nhttps://bookwhen.com/fayeflowing/e/ev-stl7-20250603181500 \nThis course will focus on each of the seven chakras\, each week working with a single chakra and starting with Root Chakra (Muladhara). \nThe first full chakra course will begin from June 3rd – July 15th.  \nAfter this we will break for the summer (with access to the class recordings for another 7 weeks for those who wish to repeat the course). \nDuring June-July we will also bring awareness to the benefits of more cooling asanas (the Ayurvedic approach) as we move into the warmer summer season. \nAnd we will work on balancing and aligning ourselves from our hearts to our minds in this fast paced world of thinking. \nI will introduce a different mantra each week\, to be spoken\, chanted or sung so you can feel and experience the benefits for yourself. \nIf you cannot attend the whole course\, you may choose to drop-in each week with pre-booking\, or you can pre-book the full 7 week chakra course online at the below link: \n• Single chakra drop-in class €12 \n• 7 Week Full Chakra Course €69 \nTo book your spot\, please use the following link:\nhttps://bookwhen.com/fayeflowing/e/ev-stl7-20250603181500 \nNamaste
URL:https://flowwithfaye.com/event/working-with-the-chakras-online-7-week-yoga-meditation-course/
LOCATION:Online
CATEGORIES:Yoga
END:VEVENT
BEGIN:VEVENT
DTSTART;TZID=UTC:20250603T081500
DTEND;TZID=UTC:20250603T093000
DTSTAMP:20260425T203439
CREATED:20250527T101318Z
LAST-MODIFIED:20250527T124921Z
UID:6585-1748938500-1748943000@flowwithfaye.com
SUMMARY:Yoga by the Sea\, Radazul
DESCRIPTION:  \nYOGA FLOW – EVERY TUESDAY – 8:15-9:30AM – PLAYA DE RADAZUL \nWe will practise a Hatha-Vinyasa Flow\, with some weeks implementing parts of the Ashtanga Primary series. \nMeditation\, breathwork & mantra will also be practised as part of the traditional Yoga class. \nAll levels and ages are welcomed\, with modifications and add-ons for everyone. \nTo book\, please use the following link:\nhttps://bookwhen.com/fayeflowing/e/ev-sr7w-20250603081500 \nPricing:\n1 x Class €12\n2 x Class €20\n4 x Classes €40 (Valid for four weeks)\n8 x Classes €70 (Valid for four weeks)
URL:https://flowwithfaye.com/event/yoga-by-the-sea-radazul/
LOCATION:Playa de Radazul\, Radazul\, Santa Cruz de Tenerife\, Spain
CATEGORIES:Yoga
END:VEVENT
BEGIN:VEVENT
DTSTART;TZID=UTC:20250422T200000
DTEND;TZID=UTC:20250422T211500
DTSTAMP:20260425T203439
CREATED:20250227T212212Z
LAST-MODIFIED:20250227T212212Z
UID:6435-1745352000-1745356500@flowwithfaye.com
SUMMARY:Yoga & Sound Healing at Zentro – Espacio para el bienestar\, Santa Cruz de Tenerife
DESCRIPTION:Balance the physical\, mental & emotional bodies with grounding through stillness & movement through flow… \n~ Unwinding through physical asanas/postures \n~ Breathing with meditation \n~ Healing music with live healing instruments & voice \n~ Restorative sound bath to relax your entire nervous system and meet with your inner peace  \nEach week we will work on different asanas/postures and breathing techniques & hear a different composition of healing sounds\, allowing us to embrace the natural and daily changes of our inner & outer worlds. \nSpaces are limited @ Zentro  ~ please reserve via the booking link:\nhttps://bookwhen.com/fayeflowing
URL:https://flowwithfaye.com/event/yoga-sound-healing-at-zentro-espacio-para-el-bienestar-santa-cruz-de-tenerife-5/
LOCATION:Zentro – Espacio para el bienestar\, Santa Cruz\, C. San Juan Bautista\, 58\, Santa Cruz de Tenerife\, Santa Cruz de Tenerife\, 38001\, Spain
CATEGORIES:Sound Healing,Yoga
END:VEVENT
BEGIN:VEVENT
DTSTART;TZID=UTC:20250415T200000
DTEND;TZID=UTC:20250415T211500
DTSTAMP:20260425T203439
CREATED:20250227T212016Z
LAST-MODIFIED:20250227T212016Z
UID:6433-1744747200-1744751700@flowwithfaye.com
SUMMARY:Yoga & Sound Healing at Zentro – Espacio para el bienestar\, Santa Cruz de Tenerife
DESCRIPTION:Balance the physical\, mental & emotional bodies with grounding through stillness & movement through flow… \n~ Unwinding through physical asanas/postures \n~ Breathing with meditation \n~ Healing music with live healing instruments & voice \n~ Restorative sound bath to relax your entire nervous system and meet with your inner peace  \nEach week we will work on different asanas/postures and breathing techniques & hear a different composition of healing sounds\, allowing us to embrace the natural and daily changes of our inner & outer worlds. \nSpaces are limited @ Zentro  ~ please reserve via the booking link:\nhttps://bookwhen.com/fayeflowing
URL:https://flowwithfaye.com/event/yoga-sound-healing-at-zentro-espacio-para-el-bienestar-santa-cruz-de-tenerife-4/
LOCATION:Zentro – Espacio para el bienestar\, Santa Cruz\, C. San Juan Bautista\, 58\, Santa Cruz de Tenerife\, Santa Cruz de Tenerife\, 38001\, Spain
CATEGORIES:Sound Healing,Yoga
END:VEVENT
BEGIN:VEVENT
DTSTART;TZID=UTC:20250401T200000
DTEND;TZID=UTC:20250401T211500
DTSTAMP:20260425T203439
CREATED:20250227T211839Z
LAST-MODIFIED:20250227T211839Z
UID:6431-1743537600-1743542100@flowwithfaye.com
SUMMARY:Yoga & Sound Healing at Zentro – Espacio para el bienestar\, Santa Cruz de Tenerife
DESCRIPTION:Balance the physical\, mental & emotional bodies with grounding through stillness & movement through flow… \n~ Unwinding through physical asanas/postures \n~ Breathing with meditation \n~ Healing music with live healing instruments & voice \n~ Restorative sound bath to relax your entire nervous system and meet with your inner peace  \nEach week we will work on different asanas/postures and breathing techniques & hear a different composition of healing sounds\, allowing us to embrace the natural and daily changes of our inner & outer worlds. \nSpaces are limited @ Zentro  ~ please reserve via the booking link:\nhttps://bookwhen.com/fayeflowing
URL:https://flowwithfaye.com/event/yoga-sound-healing-at-zentro-espacio-para-el-bienestar-santa-cruz-de-tenerife-3/
LOCATION:Zentro – Espacio para el bienestar\, Santa Cruz\, C. San Juan Bautista\, 58\, Santa Cruz de Tenerife\, Santa Cruz de Tenerife\, 38001\, Spain
CATEGORIES:Sound Healing,Yoga
END:VEVENT
END:VCALENDAR