BEGIN:VCALENDAR
VERSION:2.0
PRODID:-//Flow with Faye, in the Art of Wellbeing ... - ECPv6.15.11//NONSGML v1.0//EN
CALSCALE:GREGORIAN
METHOD:PUBLISH
X-WR-CALNAME:Flow with Faye, in the Art of Wellbeing ...
X-ORIGINAL-URL:https://flowwithfaye.com
X-WR-CALDESC:Events for Flow with Faye, in the Art of Wellbeing ...
REFRESH-INTERVAL;VALUE=DURATION:PT1H
X-Robots-Tag:noindex
X-PUBLISHED-TTL:PT1H
BEGIN:VTIMEZONE
TZID:UTC
BEGIN:STANDARD
TZOFFSETFROM:+0000
TZOFFSETTO:+0000
TZNAME:UTC
DTSTART:20250101T000000
END:STANDARD
END:VTIMEZONE
BEGIN:VEVENT
DTSTART;TZID=UTC:20260427T180000
DTEND;TZID=UTC:20260427T193000
DTSTAMP:20260425T120449
CREATED:20260406T143621Z
LAST-MODIFIED:20260406T143621Z
UID:6716-1777312800-1777318200@flowwithfaye.com
SUMMARY:Living with Purpose Online Yoga Course
DESCRIPTION:This 7-week journey is designed to help you move beyond embracing change and begin living with purpose\, on and off the mat.   \nWe will practise each week with intention\, clarity\, and growth.   \nWhat to Expect:   \n– Guided weekly themes to support your personal evolution   \n– Mindful movement\, breathwork\, and reflection   \n– A balance of strength\, flow\, and inner connection   \n– Space to reset\, refocus\, and realign   \n– Mudras\, Mantras\, Meditation\, Pranayamas\, Asanas\, Relaxation \nPerfect for you if you want to:   \n– Gain clarity and direction   \n– Build a consistent\, meaningful practice   \n– Feel more grounded\, strong\, and aligned   \n– Move forward with intention \nFull 7 Week course including replays €100\nSingle class drop-in €16.50 \nBookings:\nhttps://bookwhen.com/fayeflowing/e/ev-s1k6i-20260413180000
URL:https://flowwithfaye.com/event/living-with-purpose-online-yoga-course-3/
LOCATION:Online
CATEGORIES:Yoga
END:VEVENT
BEGIN:VEVENT
DTSTART;TZID=UTC:20260430T110000
DTEND;TZID=UTC:20260430T120000
DTSTAMP:20260425T120449
CREATED:20260401T181652Z
LAST-MODIFIED:20260401T182400Z
UID:6696-1777546800-1777550400@flowwithfaye.com
SUMMARY:Yogilates 8 Week Online Course for Core Strength & Alignment
DESCRIPTION:Starting Thursday 9th April\, a refined\, small-group experience designed to reconnect you with your body through mindful movement. This course combines the precision of Pilates with the fluidity of yoga\, guiding you through technical alignment to cultivate strength\, flexibility\, and ease. \n\n\n\n\n\nWith a focus on spinal health and intelligent movement\, each session offers personalised support to elevate your practice\, improve posture\, and bring a greater sense of balance and wellbeing into your everyday life\, along with improvement in your yoga practice. Enjoy personalised guidance to help you stay injury-free and feel your best. \n€100 Full 8 weeks including all replays\n€80 Full 8 weeks when purchased with the next online Yoga course; Living with Purpose\n€15 Single drop-in class. \n\n\n\n\nReservations:\nhttps://bookwhen.com/fayeflowing/e/ev-siqd7-20260409110000
URL:https://flowwithfaye.com/event/yogilates-8-week-online-course-for-core-strength-alignment-4/
LOCATION:Online
CATEGORIES:Pilates,Yoga
END:VEVENT
END:VCALENDAR