BEGIN:VCALENDAR
VERSION:2.0
PRODID:-//Flow with Faye, in the Art of Wellbeing ... - ECPv6.15.11//NONSGML v1.0//EN
CALSCALE:GREGORIAN
METHOD:PUBLISH
X-ORIGINAL-URL:https://flowwithfaye.com
X-WR-CALDESC:Events for Flow with Faye, in the Art of Wellbeing ...
REFRESH-INTERVAL;VALUE=DURATION:PT1H
X-Robots-Tag:noindex
X-PUBLISHED-TTL:PT1H
BEGIN:VTIMEZONE
TZID:UTC
BEGIN:STANDARD
TZOFFSETFROM:+0000
TZOFFSETTO:+0000
TZNAME:UTC
DTSTART:20240101T000000
END:STANDARD
END:VTIMEZONE
BEGIN:VEVENT
DTSTART;TZID=UTC:20251103T080000
DTEND;TZID=UTC:20251112T170000
DTSTAMP:20260425T215321
CREATED:20250403T160536Z
LAST-MODIFIED:20250519T151723Z
UID:6503-1762156800-1762966800@flowwithfaye.com
SUMMARY:10 Day Yoga\, Sound Healing & Hiking Wellness Retreat in Katmandu & Pokhara\, Nepal
DESCRIPTION:  \n10 Day Yoga\, Sound Healing & Hiking Wellness Retreat in Katmandu & Pokhara\, Nepal \nExplore ancient wisdom & connect to your soul… \n\nAbout Us\nA team of yoga & wellbeing specialists\, musicians & travel enthusiasts combining their eastern & western approaches into bringing you this authentic healing retreat in both magical Katmandu & Pokhara. \n\n!!!EARLY-BIRD OFFER UNTIL 3RD MAY 2025!!!\n \n\n!!!THE FIRST FIVE BOOKINGS RECEIVE 100 EURO OFF!!!\n \nBOOK DIRECT WITH FLOW WITH FAYE TO RECEIVE THIS SPECIAL EARLY-BIRD PRICE! DON’T MISS IT! \n  \n  \n\nWhat’s Included… \n4 nights accommodation in Katmandu (1 or 2 guests per hotel room with private bathroom)\n \n3 nights accommodation in Pokhara (1 or 2 guests per hotel room with private bathroom) \n2 nights accommodation during Poon Hill trekking (2\, 3 or 4 guests per basic room with shared bathroom) \nDaily Vegetarian or Vegan Breakfast\, Lunch & Dinner \nWater\, Tea\, Coffee\, Fruit juice \nYin Yoga Classes \nHatha-Vinyasa Yoga Classes \nAyurvedic Yoga Class \nYogalates Class (Yoga/Pilates fusion) \nMantra/Kirtan Chanting Circles \nSound Healing Sessions\n \nMeditation \nBreathwork \nGong Shower \nEcstatic Dance \nCultural Excursions in Katmandu & Pokhara \n3 Days Poon Hill Trekking \nExtra optional Treatments; \nAyurveda Massage  / Private Sound Healing \n\nWhat’s Not Included… \nFlights to and from Nepal \nFlight from Katmandu to Pokhara \nFlight or bus from Pokhara back to Katmandu or your onward destination \nFlight cost of Katmandu-Pokhara one way\, starting from 102 USD with Yeti Airlines or Buddha Air – please send an enquiry for the recommended early morning departure time.  \n  \n \nRetreat Schedule \n  \nDay 1 – Arrival in Kathmandu \n•8:00 AM: Arrival\, Welcome & Introduction Circle \n•9:00 AM: Hatha-Vinyasa Yoga \n•10:30 AM: Breakfast \n•12:00 PM: Local Kathmandu Excursion \n•3:00 PM: Lunch \n•5:00 PM: Yin Yoga & Sound Healing \n•7:30 PM: Dinner \nOvernight: Kathmandu (Night 1) \n⸻ \nDay 2 – Kathmandu with Kirtan \n•8:00 AM: Ayurvedic Yoga \n•9:30 AM: Breakfast \n•11:00 AM: Meditation & Breathwork \n•1:00 PM: Lunch \n•3:00 PM: Yogalates (Yoga-Pilates Fusion) \n•5:00 PM: Sound Healing \n•6:30 PM: Kirtan Circle \n•7:30 PM: Dinner \nOvernight: Kathmandu (Night 2) \n⸻ \nDay 3 – Kathmandu: Gong Shower & Ecstatic Dance \n•8:00 AM: Hatha-Vinyasa Yoga \n•9:30 AM: Breakfast \n•11:00 AM: Cultural Excursion in Kathmandu \n•1:30 PM: Lunch \n•5:00 PM: Ecstatic Dance \n•7:00 PM Gong Shower (Sound Healing Session) \n•7:30 PM: Dinner \nOvernight: Kathmandu (Night 3) \n⸻ \nDay 4 – Kathmandu & Kirtan \n•8:00 AM: Yoga Session (choice of Hatha-Vinyasa or Yin) \n•9:30 AM: Breakfast \n•11:00 AM: Free time or additional meditation/breathwork \n•1:00 PM: Lunch \n•3:00 PM: Optional Local Exploration \n•5:00 PM: Restorative Yoga & Sound Healing \n•6:30 PM: Kirtan Circle \n•7:30 PM: Dinner \nOvernight: Kathmandu (Night 4) \n⸻ \nDay 5 – Transition to Pokhara \n•6:00 AM: Depart Kathmandu for Pokhara \n•10:30 AM: Arrival & Breakfast in Pokhara \n•12:00 PM: Leisurely exploration of Pokhara \n•1:30 PM: Lunch \n•3:00 PM: Hatha-Vinyasa Yoga or Gentle Stretch session \n•5:00 PM: Sound Healing \n•7:30 PM: Dinner \nOvernight: Pokhara (Night 5) \n⸻ \nDay 6 – Pokhara Exploration \n•8:00 AM: Yogalates Session \n•9:30 AM: Breakfast \n•11:00 AM: Excursion to Phewa Lake & Peace Stupa \n•1:30 PM: Lunch \n•3:00 PM: Meditation & Breathwork \n•5:00 PM: Free time or gentle yoga \n•7:30 PM: Dinner \nOvernight: Pokhara (Night 6) \n⸻ \nDay 7 – Deepening in Pokhara \n•8:00 AM: Hatha-Vinyasa Yoga \n•9:30 AM: Breakfast \n•11:00 AM: Optional local cultural or nature tour \n•1:30 PM: Lunch \n•3:00 PM: Meditation & Sound Healing \n•5:00 PM: Free time to relax \n•7:30 PM: Dinner \nOvernight: Pokhara (Night 7) \n⸻ \nDay 8 – Begin Trekking Experience \n•7:00 AM: Depart Pokhara for Trek Base \n•9:00 AM: Breakfast at the Trek Base \n•10:00 AM: Start the trek (guided nature walk/hike) \n•12:30 PM: Lunch on the trail \n•4:00 PM: Arrive at your Trek accommodation \n•5:00 PM: Restorative Yoga & Meditation \n•7:00 PM: Dinner \nOvernight: Trek (Night 8) \n⸻ \nDay 9 – Trek Deep Dive \n•6:30 AM: Sunrise Breathwork & Meditation \n•8:00 AM: Breakfast \n•9:00 AM: Continue Trekking – enjoy panoramic views \n•12:00 PM: Lunch on the trail \n•3:00 PM: Leisurely hike and reflection \n•5:00 PM: Evening Yin Yoga & Sound Bath \n•7:00 PM: Dinner \nOvernight: Trek (Night 9) \n⸻ \nDay 10 – Return & Departure \n•6:30 AM: Morning Meditation \n•8:00 AM: Breakfast \n•9:00 AM: Final stretch of the trek and transfer back to Pokhara \n•12:30 PM: Arrival\, Lunch & Group Reflection \n•Departure: Transfer for your onward journey (Departure in the afternoon) \n   \n  \n 
URL:https://flowwithfaye.com/event/10-day-yoga-sound-healing-hiking-wellness-retreat-in-katmandu-pokhara-nepal/
LOCATION:Fireflies Retreat Home\, Kaldhara Chowk\, Paknajol\, Kathmandu\, Nepal\, Katmandu\, Nepal
END:VEVENT
END:VCALENDAR